BEGIN:VCALENDAR
VERSION:2.0
PRODID:-//K&ouml;lner Freiwilligen Agentur - ECPv6.15.20//NONSGML v1.0//EN
CALSCALE:GREGORIAN
METHOD:PUBLISH
X-ORIGINAL-URL:https://koeln-freiwillig.de
X-WR-CALDESC:Veranstaltungen für K&ouml;lner Freiwilligen Agentur
REFRESH-INTERVAL;VALUE=DURATION:PT1H
X-Robots-Tag:noindex
X-PUBLISHED-TTL:PT1H
BEGIN:VTIMEZONE
TZID:Europe/Berlin
BEGIN:DAYLIGHT
TZOFFSETFROM:+0100
TZOFFSETTO:+0200
TZNAME:CEST
DTSTART:20230326T010000
END:DAYLIGHT
BEGIN:STANDARD
TZOFFSETFROM:+0200
TZOFFSETTO:+0100
TZNAME:CET
DTSTART:20231029T010000
END:STANDARD
BEGIN:DAYLIGHT
TZOFFSETFROM:+0100
TZOFFSETTO:+0200
TZNAME:CEST
DTSTART:20240331T010000
END:DAYLIGHT
BEGIN:STANDARD
TZOFFSETFROM:+0200
TZOFFSETTO:+0100
TZNAME:CET
DTSTART:20241027T010000
END:STANDARD
BEGIN:DAYLIGHT
TZOFFSETFROM:+0100
TZOFFSETTO:+0200
TZNAME:CEST
DTSTART:20250330T010000
END:DAYLIGHT
BEGIN:STANDARD
TZOFFSETFROM:+0200
TZOFFSETTO:+0100
TZNAME:CET
DTSTART:20251026T010000
END:STANDARD
END:VTIMEZONE
BEGIN:VEVENT
DTSTART;TZID=Europe/Berlin:20240603T173000
DTEND;TZID=Europe/Berlin:20240603T183000
DTSTAMP:20260423T124827
CREATED:20240502T160805Z
LAST-MODIFIED:20250520T145711Z
UID:34045-1717435800-1717439400@koeln-freiwillig.de
SUMMARY:Mitsingkonzert für Menschen mit und ohne Demenz
DESCRIPTION:Mitsing-Konzert mit dem Kölner Musiker Josef Piek für junge und alte Menschen mit und ohne Demenz!\n\nEintritt frei!\n\nDauer ca. 1h\n\nEs gibt zwei Anmeldemöglichkeiten:\n\n 	Verbindliche Ticketreservierung für die Gästeliste ab sofort per Mail an duo@koeln-freiwillig.de (bitte mit Name und Vorname)\nStationäre Einrichtungen/ Gruppen\, die mit mehreren Menschen kommen werden\, bitten wir um eine Sammelmail.\n 	Ab 15. Mai 2024 online bestellbar unter www.domforum.de/veranstaltungen/unser-programm (hier gibt es Onlinetickets zum Selberausdrucken geben)
URL:https://koeln-freiwillig.de/event/mitsingkonzert-fuer-menschen-mit-und-ohne-demenz/
LOCATION:Domforum\, Domkloster 3\, Köln\, 50667\, Deutschland
CATEGORIES:DUO
ORGANIZER;CN="Demenznetz Innenstadt":MAILTO:duo@koeln-freiwillig.de
END:VEVENT
END:VCALENDAR